BEGIN:VCALENDAR
VERSION:2.0
PRODID:-//Shine Tumblers - ECPv6.8.3//NONSGML v1.0//EN
CALSCALE:GREGORIAN
METHOD:PUBLISH
X-ORIGINAL-URL:https://shinetumblers.com
X-WR-CALDESC:Events for Shine Tumblers
REFRESH-INTERVAL;VALUE=DURATION:PT1H
X-Robots-Tag:noindex
X-PUBLISHED-TTL:PT1H
BEGIN:VTIMEZONE
TZID:UTC
BEGIN:STANDARD
TZOFFSETFROM:+0000
TZOFFSETTO:+0000
TZNAME:UTC
DTSTART:20240101T000000
END:STANDARD
END:VTIMEZONE
BEGIN:VEVENT
DTSTART;VALUE=DATE:20241110
DTEND;VALUE=DATE:20241111
DTSTAMP:20260424T120038
CREATED:20240911T105745Z
LAST-MODIFIED:20240916T055307Z
UID:1227-1731196800-1731283199@shinetumblers.com
SUMMARY:TnT Spectacular
DESCRIPTION:
URL:https://shinetumblers.com/event/tnt-spectacular/
LOCATION:CAVU\, CAVU\, Mountain Lakes\, NJ\, United States
CATEGORIES:2024
END:VEVENT
END:VCALENDAR