BEGIN:VCALENDAR
VERSION:2.0
PRODID:-//Shine Tumblers - ECPv6.8.3//NONSGML v1.0//EN
CALSCALE:GREGORIAN
METHOD:PUBLISH
X-WR-CALNAME:Shine Tumblers
X-ORIGINAL-URL:https://shinetumblers.com
X-WR-CALDESC:Events for Shine Tumblers
REFRESH-INTERVAL;VALUE=DURATION:PT1H
X-Robots-Tag:noindex
X-PUBLISHED-TTL:PT1H
BEGIN:VTIMEZONE
TZID:UTC
BEGIN:STANDARD
TZOFFSETFROM:+0000
TZOFFSETTO:+0000
TZNAME:UTC
DTSTART:20240101T000000
END:STANDARD
END:VTIMEZONE
BEGIN:VEVENT
DTSTART;VALUE=DATE:20241219
DTEND;VALUE=DATE:20241222
DTSTAMP:20260424T074755
CREATED:20240911T110115Z
LAST-MODIFIED:20240916T055332Z
UID:1231-1734566400-1734825599@shinetumblers.com
SUMMARY:Atlantis Crown Invitational
DESCRIPTION:
URL:https://shinetumblers.com/event/atlantis-crown-invitational/
LOCATION:Bahamas\, Bahamas\, Bahamas\, United States Minor Outlying Islands
CATEGORIES:2024
END:VEVENT
END:VCALENDAR