BEGIN:VCALENDAR
VERSION:2.0
PRODID:-//Shine Tumblers - ECPv6.8.3//NONSGML v1.0//EN
CALSCALE:GREGORIAN
METHOD:PUBLISH
X-WR-CALNAME:Shine Tumblers
X-ORIGINAL-URL:https://shinetumblers.com
X-WR-CALDESC:Events for Shine Tumblers
REFRESH-INTERVAL;VALUE=DURATION:PT1H
X-Robots-Tag:noindex
X-PUBLISHED-TTL:PT1H
BEGIN:VTIMEZONE
TZID:UTC
BEGIN:STANDARD
TZOFFSETFROM:+0000
TZOFFSETTO:+0000
TZNAME:UTC
DTSTART:20260101T000000
END:STANDARD
END:VTIMEZONE
BEGIN:VEVENT
DTSTART;VALUE=DATE:20260418
DTEND;VALUE=DATE:20260420
DTSTAMP:20260419T070417
CREATED:20251007T023754Z
LAST-MODIFIED:20251023T064131Z
UID:2336-1776470400-1776643199@shinetumblers.com
SUMMARY:Competition
DESCRIPTION:
URL:https://shinetumblers.com/event/competition-7/
LOCATION:Mountain Lakes\, Mountain Lakes\, NJ\, United States
CATEGORIES:2026
END:VEVENT
END:VCALENDAR