BEGIN:VCALENDAR
VERSION:2.0
PRODID:-//Shine Tumblers - ECPv6.8.3//NONSGML v1.0//EN
CALSCALE:GREGORIAN
METHOD:PUBLISH
X-ORIGINAL-URL:https://shinetumblers.com
X-WR-CALDESC:Events for Shine Tumblers
REFRESH-INTERVAL;VALUE=DURATION:PT1H
X-Robots-Tag:noindex
X-PUBLISHED-TTL:PT1H
BEGIN:VTIMEZONE
TZID:UTC
BEGIN:STANDARD
TZOFFSETFROM:+0000
TZOFFSETTO:+0000
TZNAME:UTC
DTSTART:20250101T000000
END:STANDARD
END:VTIMEZONE
BEGIN:VEVENT
DTSTART;TZID=UTC:20250108T173000
DTEND;TZID=UTC:20250108T183000
DTSTAMP:20260424T050059
CREATED:20250107T054312Z
LAST-MODIFIED:20250107T061025Z
UID:2144-1736357400-1736361000@shinetumblers.com
SUMMARY:Intermediate
DESCRIPTION:
URL:https://shinetumblers.com/event/intermediate/
END:VEVENT
BEGIN:VEVENT
DTSTART;TZID=UTC:20250108T183000
DTEND;TZID=UTC:20250108T193000
DTSTAMP:20260424T050059
CREATED:20250107T052634Z
LAST-MODIFIED:20250107T061013Z
UID:2137-1736361000-1736364600@shinetumblers.com
SUMMARY:Beginner
DESCRIPTION:
URL:https://shinetumblers.com/event/beginner-2/
END:VEVENT
BEGIN:VEVENT
DTSTART;TZID=UTC:20250108T173000
DTEND;TZID=UTC:20250108T183000
DTSTAMP:20260424T050059
CREATED:20250107T054312Z
LAST-MODIFIED:20250107T061025Z
UID:2144-1736357400-1736361000@shinetumblers.com
SUMMARY:Intermediate
DESCRIPTION:
URL:https://shinetumblers.com/event/intermediate/
END:VEVENT
BEGIN:VEVENT
DTSTART;TZID=UTC:20250108T183000
DTEND;TZID=UTC:20250108T193000
DTSTAMP:20260424T050059
CREATED:20250107T052634Z
LAST-MODIFIED:20250107T061013Z
UID:2137-1736361000-1736364600@shinetumblers.com
SUMMARY:Beginner
DESCRIPTION:
URL:https://shinetumblers.com/event/beginner-2/
END:VEVENT
BEGIN:VEVENT
DTSTART;TZID=UTC:20250111T110000
DTEND;TZID=UTC:20250111T120000
DTSTAMP:20260424T050059
CREATED:20250107T061213Z
LAST-MODIFIED:20250110T004343Z
UID:2157-1736593200-1736596800@shinetumblers.com
SUMMARY:Drop-In Class
DESCRIPTION:
URL:https://shinetumblers.com/event/drop-in-class-3/
END:VEVENT
BEGIN:VEVENT
DTSTART;TZID=UTC:20250112T150000
DTEND;TZID=UTC:20250112T163000
DTSTAMP:20260424T050059
CREATED:20250107T061627Z
LAST-MODIFIED:20250122T073340Z
UID:2160-1736694000-1736699400@shinetumblers.com
SUMMARY:New Year- Relax\, Reset\, Renew
DESCRIPTION:(Bring a small blanket and yoga mat.) RSVPs preferred.
URL:https://shinetumblers.com/event/new-year-relax-reset-renew/
LOCATION:Cell Power Cafe\, Cell Power Cafe\, Newark\, NJ\, United States
END:VEVENT
BEGIN:VEVENT
DTSTART;TZID=UTC:20250113T173000
DTEND;TZID=UTC:20250113T183000
DTSTAMP:20260424T050059
CREATED:20250107T053632Z
LAST-MODIFIED:20250107T061017Z
UID:2139-1736789400-1736793000@shinetumblers.com
SUMMARY:Beginner
DESCRIPTION:
URL:https://shinetumblers.com/event/beginner/
END:VEVENT
BEGIN:VEVENT
DTSTART;TZID=UTC:20250113T183000
DTEND;TZID=UTC:20250113T193000
DTSTAMP:20260424T050059
CREATED:20250107T054207Z
LAST-MODIFIED:20250107T061021Z
UID:2142-1736793000-1736796600@shinetumblers.com
SUMMARY:Intermediate
DESCRIPTION:
URL:https://shinetumblers.com/event/intermediate-2/
END:VEVENT
BEGIN:VEVENT
DTSTART;TZID=UTC:20250113T173000
DTEND;TZID=UTC:20250113T183000
DTSTAMP:20260424T050059
CREATED:20250107T053632Z
LAST-MODIFIED:20250107T061017Z
UID:2139-1736789400-1736793000@shinetumblers.com
SUMMARY:Beginner
DESCRIPTION:
URL:https://shinetumblers.com/event/beginner/
END:VEVENT
BEGIN:VEVENT
DTSTART;TZID=UTC:20250113T183000
DTEND;TZID=UTC:20250113T193000
DTSTAMP:20260424T050059
CREATED:20250107T054207Z
LAST-MODIFIED:20250107T061021Z
UID:2142-1736793000-1736796600@shinetumblers.com
SUMMARY:Intermediate
DESCRIPTION:
URL:https://shinetumblers.com/event/intermediate-2/
END:VEVENT
BEGIN:VEVENT
DTSTART;TZID=UTC:20250108T173000
DTEND;TZID=UTC:20250108T183000
DTSTAMP:20260424T050059
CREATED:20250107T054312Z
LAST-MODIFIED:20250107T061025Z
UID:2144-1736357400-1736361000@shinetumblers.com
SUMMARY:Intermediate
DESCRIPTION:
URL:https://shinetumblers.com/event/intermediate/
END:VEVENT
BEGIN:VEVENT
DTSTART;TZID=UTC:20250108T183000
DTEND;TZID=UTC:20250108T193000
DTSTAMP:20260424T050059
CREATED:20250107T052634Z
LAST-MODIFIED:20250107T061013Z
UID:2137-1736361000-1736364600@shinetumblers.com
SUMMARY:Beginner
DESCRIPTION:
URL:https://shinetumblers.com/event/beginner-2/
END:VEVENT
BEGIN:VEVENT
DTSTART;TZID=UTC:20250108T173000
DTEND;TZID=UTC:20250108T183000
DTSTAMP:20260424T050059
CREATED:20250107T054312Z
LAST-MODIFIED:20250107T061025Z
UID:2144-1736357400-1736361000@shinetumblers.com
SUMMARY:Intermediate
DESCRIPTION:
URL:https://shinetumblers.com/event/intermediate/
END:VEVENT
BEGIN:VEVENT
DTSTART;TZID=UTC:20250108T183000
DTEND;TZID=UTC:20250108T193000
DTSTAMP:20260424T050059
CREATED:20250107T052634Z
LAST-MODIFIED:20250107T061013Z
UID:2137-1736361000-1736364600@shinetumblers.com
SUMMARY:Beginner
DESCRIPTION:
URL:https://shinetumblers.com/event/beginner-2/
END:VEVENT
BEGIN:VEVENT
DTSTART;TZID=UTC:20250111T110000
DTEND;TZID=UTC:20250111T120000
DTSTAMP:20260424T050059
CREATED:20250107T061213Z
LAST-MODIFIED:20250110T004343Z
UID:2157-1736593200-1736596800@shinetumblers.com
SUMMARY:Drop-In Class
DESCRIPTION:
URL:https://shinetumblers.com/event/drop-in-class-3/
END:VEVENT
BEGIN:VEVENT
DTSTART;TZID=UTC:20250113T173000
DTEND;TZID=UTC:20250113T183000
DTSTAMP:20260424T050059
CREATED:20250107T053632Z
LAST-MODIFIED:20250107T061017Z
UID:2139-1736789400-1736793000@shinetumblers.com
SUMMARY:Beginner
DESCRIPTION:
URL:https://shinetumblers.com/event/beginner/
END:VEVENT
BEGIN:VEVENT
DTSTART;TZID=UTC:20250113T183000
DTEND;TZID=UTC:20250113T193000
DTSTAMP:20260424T050059
CREATED:20250107T054207Z
LAST-MODIFIED:20250107T061021Z
UID:2142-1736793000-1736796600@shinetumblers.com
SUMMARY:Intermediate
DESCRIPTION:
URL:https://shinetumblers.com/event/intermediate-2/
END:VEVENT
BEGIN:VEVENT
DTSTART;TZID=UTC:20250113T173000
DTEND;TZID=UTC:20250113T183000
DTSTAMP:20260424T050059
CREATED:20250107T053632Z
LAST-MODIFIED:20250107T061017Z
UID:2139-1736789400-1736793000@shinetumblers.com
SUMMARY:Beginner
DESCRIPTION:
URL:https://shinetumblers.com/event/beginner/
END:VEVENT
BEGIN:VEVENT
DTSTART;TZID=UTC:20250113T183000
DTEND;TZID=UTC:20250113T193000
DTSTAMP:20260424T050059
CREATED:20250107T054207Z
LAST-MODIFIED:20250107T061021Z
UID:2142-1736793000-1736796600@shinetumblers.com
SUMMARY:Intermediate
DESCRIPTION:
URL:https://shinetumblers.com/event/intermediate-2/
END:VEVENT
BEGIN:VEVENT
DTSTART;TZID=UTC:20250108T173000
DTEND;TZID=UTC:20250108T183000
DTSTAMP:20260424T050059
CREATED:20250107T054312Z
LAST-MODIFIED:20250107T061025Z
UID:2144-1736357400-1736361000@shinetumblers.com
SUMMARY:Intermediate
DESCRIPTION:
URL:https://shinetumblers.com/event/intermediate/
END:VEVENT
BEGIN:VEVENT
DTSTART;TZID=UTC:20250108T183000
DTEND;TZID=UTC:20250108T193000
DTSTAMP:20260424T050059
CREATED:20250107T052634Z
LAST-MODIFIED:20250107T061013Z
UID:2137-1736361000-1736364600@shinetumblers.com
SUMMARY:Beginner
DESCRIPTION:
URL:https://shinetumblers.com/event/beginner-2/
END:VEVENT
BEGIN:VEVENT
DTSTART;TZID=UTC:20250108T173000
DTEND;TZID=UTC:20250108T183000
DTSTAMP:20260424T050059
CREATED:20250107T054312Z
LAST-MODIFIED:20250107T061025Z
UID:2144-1736357400-1736361000@shinetumblers.com
SUMMARY:Intermediate
DESCRIPTION:
URL:https://shinetumblers.com/event/intermediate/
END:VEVENT
BEGIN:VEVENT
DTSTART;TZID=UTC:20250108T183000
DTEND;TZID=UTC:20250108T193000
DTSTAMP:20260424T050059
CREATED:20250107T052634Z
LAST-MODIFIED:20250107T061013Z
UID:2137-1736361000-1736364600@shinetumblers.com
SUMMARY:Beginner
DESCRIPTION:
URL:https://shinetumblers.com/event/beginner-2/
END:VEVENT
BEGIN:VEVENT
DTSTART;VALUE=DATE:20250125
DTEND;VALUE=DATE:20250127
DTSTAMP:20260424T050059
CREATED:20240911T110712Z
LAST-MODIFIED:20240916T055508Z
UID:1238-1737763200-1737935999@shinetumblers.com
SUMMARY:Garden State Trampoline Invitational
DESCRIPTION:
URL:https://shinetumblers.com/event/garden-state-trampoline-invitational/
LOCATION:Garden State Trampoline Academy\, Garden State Trampoline Academy\, Millstone\, NJ\, United States
CATEGORIES:2025
END:VEVENT
BEGIN:VEVENT
DTSTART;TZID=UTC:20250125T110000
DTEND;TZID=UTC:20250125T120000
DTSTAMP:20260424T050059
CREATED:20250122T072622Z
LAST-MODIFIED:20250122T072622Z
UID:2208-1737802800-1737806400@shinetumblers.com
SUMMARY:Drop-In Class
DESCRIPTION:
URL:https://shinetumblers.com/event/drop-in-class-3-2/
END:VEVENT
BEGIN:VEVENT
DTSTART;TZID=UTC:20250127T173000
DTEND;TZID=UTC:20250127T183000
DTSTAMP:20260424T050059
CREATED:20250123T032942Z
LAST-MODIFIED:20250123T032943Z
UID:2218-1737999000-1738002600@shinetumblers.com
SUMMARY:Beginner
DESCRIPTION:
URL:https://shinetumblers.com/event/beginner-3/
END:VEVENT
BEGIN:VEVENT
DTSTART;TZID=UTC:20250113T183000
DTEND;TZID=UTC:20250113T193000
DTSTAMP:20260424T050059
CREATED:20250107T054207Z
LAST-MODIFIED:20250107T061021Z
UID:2142-1736793000-1736796600@shinetumblers.com
SUMMARY:Intermediate
DESCRIPTION:
URL:https://shinetumblers.com/event/intermediate-2/
END:VEVENT
BEGIN:VEVENT
DTSTART;TZID=UTC:20250127T173000
DTEND;TZID=UTC:20250127T183000
DTSTAMP:20260424T050059
CREATED:20250123T032942Z
LAST-MODIFIED:20250123T032943Z
UID:2218-1737999000-1738002600@shinetumblers.com
SUMMARY:Beginner
DESCRIPTION:
URL:https://shinetumblers.com/event/beginner-3/
END:VEVENT
BEGIN:VEVENT
DTSTART;TZID=UTC:20250113T183000
DTEND;TZID=UTC:20250113T193000
DTSTAMP:20260424T050059
CREATED:20250107T054207Z
LAST-MODIFIED:20250107T061021Z
UID:2142-1736793000-1736796600@shinetumblers.com
SUMMARY:Intermediate
DESCRIPTION:
URL:https://shinetumblers.com/event/intermediate-2/
END:VEVENT
BEGIN:VEVENT
DTSTART;TZID=UTC:20250108T173000
DTEND;TZID=UTC:20250108T183000
DTSTAMP:20260424T050059
CREATED:20250107T054312Z
LAST-MODIFIED:20250107T061025Z
UID:2144-1736357400-1736361000@shinetumblers.com
SUMMARY:Intermediate
DESCRIPTION:
URL:https://shinetumblers.com/event/intermediate/
END:VEVENT
END:VCALENDAR