BEGIN:VCALENDAR
VERSION:2.0
PRODID:-//Shine Tumblers - ECPv6.8.3//NONSGML v1.0//EN
CALSCALE:GREGORIAN
METHOD:PUBLISH
X-WR-CALNAME:Shine Tumblers
X-ORIGINAL-URL:https://shinetumblers.com
X-WR-CALDESC:Events for Shine Tumblers
REFRESH-INTERVAL;VALUE=DURATION:PT1H
X-Robots-Tag:noindex
X-PUBLISHED-TTL:PT1H
BEGIN:VTIMEZONE
TZID:UTC
BEGIN:STANDARD
TZOFFSETFROM:+0000
TZOFFSETTO:+0000
TZNAME:UTC
DTSTART:20240101T000000
END:STANDARD
END:VTIMEZONE
BEGIN:VEVENT
DTSTART;VALUE=DATE:20241019
DTEND;VALUE=DATE:20241021
DTSTAMP:20260424T074708
CREATED:20240911T105618Z
LAST-MODIFIED:20240919T123831Z
UID:1225-1729296000-1729468799@shinetumblers.com
SUMMARY:Spooky Season Opener Competition
DESCRIPTION:
URL:https://shinetumblers.com/event/spooky-season-opener-competition/
LOCATION:Elite Trampoline Academy (ETA)\, Elite Trampoline and Tumbling\, Red Bank\, NJ\, United States
CATEGORIES:2024
END:VEVENT
END:VCALENDAR